BEGIN:VCALENDAR
VERSION:2.0
PRODID:-//Musikunterricht Altstadt Schaffhausen - ECPv6.15.17.1//NONSGML v1.0//EN
CALSCALE:GREGORIAN
METHOD:PUBLISH
X-ORIGINAL-URL:https://musikunterrichtaltstadt.ch
X-WR-CALDESC:Veranstaltungen im Musikunterricht Altstadt Schaffhausen
REFRESH-INTERVAL;VALUE=DURATION:PT1H
X-Robots-Tag:noindex
X-PUBLISHED-TTL:PT1H
BEGIN:VTIMEZONE
TZID:Europe/Berlin
BEGIN:DAYLIGHT
TZOFFSETFROM:+0100
TZOFFSETTO:+0200
TZNAME:CEST
DTSTART:20250330T010000
END:DAYLIGHT
BEGIN:STANDARD
TZOFFSETFROM:+0200
TZOFFSETTO:+0100
TZNAME:CET
DTSTART:20251026T010000
END:STANDARD
BEGIN:DAYLIGHT
TZOFFSETFROM:+0100
TZOFFSETTO:+0200
TZNAME:CEST
DTSTART:20260329T010000
END:DAYLIGHT
BEGIN:STANDARD
TZOFFSETFROM:+0200
TZOFFSETTO:+0100
TZNAME:CET
DTSTART:20261025T010000
END:STANDARD
BEGIN:DAYLIGHT
TZOFFSETFROM:+0100
TZOFFSETTO:+0200
TZNAME:CEST
DTSTART:20270328T010000
END:DAYLIGHT
BEGIN:STANDARD
TZOFFSETFROM:+0200
TZOFFSETTO:+0100
TZNAME:CET
DTSTART:20271031T010000
END:STANDARD
END:VTIMEZONE
BEGIN:VEVENT
DTSTART;TZID=Europe/Berlin:20260530T140000
DTEND;TZID=Europe/Berlin:20260530T200000
DTSTAMP:20260419T172836
CREATED:20251029T155449Z
LAST-MODIFIED:20260327T211012Z
UID:763-1780149600-1780171200@musikunterrichtaltstadt.ch
SUMMARY:Musikschultag der Musikschule SMPV Schaffhausen
DESCRIPTION:Es spielen SchülerInnen und Ensembles der Lehrpersonen der Musikschule SMPV Schaffhausen.
URL:https://musikunterrichtaltstadt.ch/veranstaltungen/musikschultag-der-musikschule-smpv-schaffhausen/
LOCATION:Haberhaus Schaffhausen\, Neustadt 51\, 8200 Schaffhausen\, Switzerland
CATEGORIES:SchülerInnenkonzert
ORGANIZER;CN="Musikschule SMPV Schaffhausen":MAILTO:musikschule@smpv-schaffhausen.ch
END:VEVENT
END:VCALENDAR